BEGIN:VCALENDAR
VERSION:2.0
PRODID:-//wp-events-plugin.com//7.0.4//EN
TZID:America/Los_Angeles
X-WR-TIMEZONE:America/Los_Angeles
BEGIN:VEVENT
UID:336@communityshul.com
DTSTART:20190930T020000Z
DTEND:20190930T040000Z
DTSTAMP:20190517T123707Z
URL:https://communityshul.com/events/rosh-hashanah-eve-4/
SUMMARY:Rosh Hashanah Eve
DESCRIPTION:Please join Rabbi Arthur for our welcoming and intimate celebra
 tion of the Jewish New Year at the Pacifica Graduate Institute.\n\nFree Ad
 mission – Everyone is welcome
CATEGORIES:High Holidays
LOCATION:Pacifica\, 801 Ladera Lane\, Santa Barbara\, CA\, 93108\, United S
 tates
GEO:34.4419729;-119.58111229999997
X-APPLE-STRUCTURED-LOCATION;VALUE=URI;X-ADDRESS=801 Ladera Lane\, Santa Bar
 bara\, CA\, 93108\, United States;X-APPLE-RADIUS=100;X-TITLE=Pacifica:geo:
 34.4419729,-119.58111229999997
END:VEVENT
END:VCALENDAR