BEGIN:VCALENDAR
VERSION:2.0
PRODID:-//wp-events-plugin.com//7.0.4//EN
TZID:America/Los_Angeles
X-WR-TIMEZONE:America/Los_Angeles
BEGIN:VEVENT
UID:424@communityshul.com
DTSTART;TZID=America/Los_Angeles:20200918T190000
DTEND;TZID=America/Los_Angeles:20200918T203000
DTSTAMP:20200909T204203Z
URL:https://communityshul.com/events/rosh-hashanah-eve-5/
SUMMARY:Rosh Hashanah Eve
DESCRIPTION:Please join us for Rosh Hashanah service led by Rabbi Arthur G
 ross-Schaefer\, Cantorial Soloist Elisha Schaefer and composer Peter Melni
 ck. Each year we offer uniquely warm and participatory services. Everyone 
 is encouraged to participate in a variety of ways. It is that personal inv
 olvement and connection that makes our community and our services so vibra
 nt and meaningful.\nTo join Rosh Hashanah Eve Zoom meeting please click he
 re .\nEveryone is welcome\n\nTo make a donation please click here
CATEGORIES:High Holidays
END:VEVENT
BEGIN:VTIMEZONE
TZID:America/Los_Angeles
X-LIC-LOCATION:America/Los_Angeles
BEGIN:DAYLIGHT
DTSTART:20200308T030000
TZOFFSETFROM:-0800
TZOFFSETTO:-0700
TZNAME:PDT
END:DAYLIGHT
END:VTIMEZONE
END:VCALENDAR