BEGIN:VCALENDAR
VERSION:2.0
PRODID:-//wp-events-plugin.com//7.0.4//EN
TZID:America/Los_Angeles
X-WR-TIMEZONE:America/Los_Angeles
BEGIN:VEVENT
UID:493@communityshul.com
DTSTART;TZID=America/Los_Angeles:20210906T190000
DTEND;TZID=America/Los_Angeles:20210906T210000
DTSTAMP:20210826T145122Z
URL:https://communityshul.com/events/rosh-hashanah-eve-6/
SUMMARY:Rosh Hashanah Eve
DESCRIPTION:Please join on us for our welcoming and intimate Rosh Hashanah 
 Eve service on Monday \, September 7 \, 7:00 pm  \n\nThis High Holidays\
 , services will be available to all members and friends of the Community S
 hul via Zoom and limited outdoor seating.\n\nWe will also be offering limi
 ted outdoor seating on the patio of Rabbi Arthur’s home\, for those who 
 would like to attend services in person. Canopies will provide shade. But 
 the Seating will be limited due to social distancing considerations. For a
 nyone interested in attending services in person:\n\n1) Please email Itzik
  at communityshul@gmail.com with a list of the specific services you would
  like to attend\, in order of preference.\n\n2) You must have completed yo
 ur vaccinations at least two weeks prior to services in order to attend in
  person. Proof of vaccination must be provided when registering. To be saf
 e in case of any mix up\, please bring a paper copy as a backup.\n\nUnfort
 unately\, children under the age of twelve will be unable to attend servic
 es in person this year.\n\n3) Masks will be required for all attendees.\n\
 nIf you still wish to borrow our High Holy Day prayer books\, a tallit\, k
 ippot or pick up a Yizkor candle and Jewish calendar\, please stop by Rabb
 i Arthur’s home 4598 Camino Molinero Santa Barbara\, CA 93110 on Monday\
 , September 6 between 12 and 1 PM.  If either the time or the day is not 
 convenient for you\, please contact Itzik at communityshul@gmail.com and o
 ther arrangements will be happily made.  We really want all of you to be 
 with us either on zoom or in person.\n\nLet's make sure that our wonderful
  Community has the resources needed to continue thriving.\n\nTo Donate ple
 ase click here\n\nThank you in advance for your understanding\, and your c
 ooperation.
CATEGORIES:High Holidays
LOCATION:Rabbi Arthur's home\, 4598 Camino Molinero\, Santa Barbara\, CA\, 
 93110\, United States
GEO:34.454977;-119.780821
X-APPLE-STRUCTURED-LOCATION;VALUE=URI;X-ADDRESS=4598 Camino Molinero\, Sant
 a Barbara\, CA\, 93110\, United States;X-APPLE-RADIUS=100;X-TITLE=Rabbi Ar
 thur's home:geo:34.454977,-119.780821
END:VEVENT
BEGIN:VTIMEZONE
TZID:America/Los_Angeles
X-LIC-LOCATION:America/Los_Angeles
BEGIN:DAYLIGHT
DTSTART:20210314T030000
TZOFFSETFROM:-0800
TZOFFSETTO:-0700
TZNAME:PDT
END:DAYLIGHT
END:VTIMEZONE
END:VCALENDAR