BEGIN:VCALENDAR
VERSION:2.0
PRODID:-//wp-events-plugin.com//7.0.4//EN
TZID:America/Los_Angeles
X-WR-TIMEZONE:America/Los_Angeles
BEGIN:VEVENT
UID:426@communityshul.com
DTSTART;TZID=America/Los_Angeles:20200919T103000
DTEND;TZID=America/Los_Angeles:20200919T120000
DTSTAMP:20200909T204742Z
URL:https://communityshul.com/events/rosh-hashanah-morning-service/
SUMMARY:Rosh Hashanah Morning service
DESCRIPTION:Please join us for Rosh Hashanah service led by Rabbi Arthur 
 Gross-Schaefer\, Cantorial Soloist Elisha Schaefer and composer Peter Meln
 ick. Each year we offer uniquely warm and participatory services. Everyone
  is encouraged to participate in a variety of ways. It is that personal in
 volvement and connection that makes our community and our services so vibr
 ant and meaningful.\n\n\n\nTo join Rosh Hashanah Morning Service please cl
 ick here \n\n Everyone is welcome!\nTo make a donation please click here
  
CATEGORIES:High Holidays
END:VEVENT
BEGIN:VTIMEZONE
TZID:America/Los_Angeles
X-LIC-LOCATION:America/Los_Angeles
BEGIN:DAYLIGHT
DTSTART:20200308T030000
TZOFFSETFROM:-0800
TZOFFSETTO:-0700
TZNAME:PDT
END:DAYLIGHT
END:VTIMEZONE
END:VCALENDAR