BEGIN:VCALENDAR
VERSION:2.0
PRODID:-//wp-events-plugin.com//7.0.4//EN
TZID:America/Los_Angeles
X-WR-TIMEZONE:America/Los_Angeles
BEGIN:VEVENT
UID:494@communityshul.com
DTSTART;TZID=America/Los_Angeles:20210907T100000
DTEND;TZID=America/Los_Angeles:20210907T123000
DTSTAMP:20210826T145202Z
URL:https://communityshul.com/events/rosh-hashanah-service-2/
SUMMARY:Rosh Hashanah Service
DESCRIPTION:Please join on us for our welcoming and intimate Rosh Hashanah 
 day service on Tuesday \, September 7 \, 10:00 pm  \n\nThis High Holiday
 s\, services will be available to all members and friends of the Community
  Shul via Zoom and limited outdoor seating.\n\nWe will also be offering li
 mited outdoor seating on the patio of Rabbi Arthur’s home\, for those wh
 o would like to attend services in person. Canopies will provide shade. Bu
 t the Seating will be limited due to social distancing considerations. For
  anyone interested in attending services in person:\n\n1) Please email Itz
 ik at communityshul@gmail.com with a list of the specific services you wou
 ld like to attend\, in order of preference.\n\n2)You must have completed y
 our vaccinations at least two weeks prior to services in order to attend i
 n person. Proof of vaccination must be provided when registering. To be sa
 fe in case of any mix up\, please bring a paper copy as a backup.\n\nUnfor
 tunately\, children under the age of twelve will be unable to attend servi
 ces in person this year.\n\n3) Masks will be required for all attendees.\n
 \nTo Donate please click here\n\nThank you in advance for your understandi
 ng\, and your cooperation.
CATEGORIES:High Holidays
LOCATION:Rabbi Arthur's home\, 4598 Camino Molinero\, Santa Barbara\, CA\, 
 93110\, United States
GEO:34.454977;-119.780821
X-APPLE-STRUCTURED-LOCATION;VALUE=URI;X-ADDRESS=4598 Camino Molinero\, Sant
 a Barbara\, CA\, 93110\, United States;X-APPLE-RADIUS=100;X-TITLE=Rabbi Ar
 thur's home:geo:34.454977,-119.780821
END:VEVENT
BEGIN:VTIMEZONE
TZID:America/Los_Angeles
X-LIC-LOCATION:America/Los_Angeles
BEGIN:DAYLIGHT
DTSTART:20210314T030000
TZOFFSETFROM:-0800
TZOFFSETTO:-0700
TZNAME:PDT
END:DAYLIGHT
END:VTIMEZONE
END:VCALENDAR