BEGIN:VCALENDAR
VERSION:2.0
PRODID:-//wp-events-plugin.com//7.0.4//EN
TZID:America/Los_Angeles
X-WR-TIMEZONE:America/Los_Angeles
BEGIN:VEVENT
UID:81@communityshul.com
DTSTART:20170921T170000Z
DTEND:20170921T193000Z
DTSTAMP:20170808T211829Z
URL:https://communityshul.com/events/rosh-hashanah-service/
SUMMARY:Rosh Hashanah Service
DESCRIPTION:Please join on us for our welcoming and intimate Rosh Hashanah 
 service on Thursday\, September 21\, 10:00 am\n\n
CATEGORIES:Service
LOCATION:Pacifica Graduate Institute\, 801 Ladera Lane\,\, Santa Barbara\, 
 CA\, 93108\, United States
GEO:34.4419729;-119.58111229999997
X-APPLE-STRUCTURED-LOCATION;VALUE=URI;X-ADDRESS=801 Ladera Lane\,\, Santa B
 arbara\, CA\, 93108\, United States;X-APPLE-RADIUS=100;X-TITLE=Pacifica Gr
 aduate Institute:geo:34.4419729,-119.58111229999997
END:VEVENT
END:VCALENDAR