BEGIN:VCALENDAR
VERSION:2.0
PRODID:-//wp-events-plugin.com//7.0.4//EN
TZID:America/Los_Angeles
X-WR-TIMEZONE:America/Los_Angeles
BEGIN:VEVENT
UID:431@communityshul.com
DTSTART;TZID=America/Los_Angeles:20201010T180000
DTEND;TZID=America/Los_Angeles:20201010T190000
DTSTAMP:20201007T152645Z
URL:https://communityshul.com/events/shabbat-and-simchat-torah-celebration
 /
SUMMARY:Havdalah and Simchat Torah Celebration.
DESCRIPTION:Simchat Torah Celebration with Rabbi Arthur on Saturday\, Octob
 er 10 6:00 P.M.\n\nTo Join Rabbi Arthur on zoom for Simchat Torah celebrat
 ion with Havdalah blessings\, singing\, and a short Torah teaching.\nPLEAS
 E CLICK HERE \n\nJoin Zoom Meeting\n\nMeeting ID: 838 0644 7286\n\nPassco
 de: 198145\n\n&nbsp\;\n
CATEGORIES:Celebration
LOCATION:The Jewish Federation’s Bronfman Family JCC.\, 524 Chapala St\, 
 Santa Barbara\, CA\, 93101\, United States
GEO:34.416685;-119.697105
X-APPLE-STRUCTURED-LOCATION;VALUE=URI;X-ADDRESS=524 Chapala St\, Santa Barb
 ara\, CA\, 93101\, United States;X-APPLE-RADIUS=100;X-TITLE=The Jewish Fed
 eration’s Bronfman Family JCC.:geo:34.416685,-119.697105
END:VEVENT
BEGIN:VTIMEZONE
TZID:America/Los_Angeles
X-LIC-LOCATION:America/Los_Angeles
BEGIN:DAYLIGHT
DTSTART:20200308T030000
TZOFFSETFROM:-0800
TZOFFSETTO:-0700
TZNAME:PDT
END:DAYLIGHT
END:VTIMEZONE
END:VCALENDAR