BEGIN:VCALENDAR
VERSION:2.0
PRODID:-//wp-events-plugin.com//7.0.4//EN
TZID:America/Los_Angeles
X-WR-TIMEZONE:America/Los_Angeles
BEGIN:VEVENT
UID:562@communityshul.com
DTSTART;TZID=America/Los_Angeles:20230311T103000
DTEND;TZID=America/Los_Angeles:20230311T123000
DTSTAMP:20230216T200542Z
URL:https://communityshul.com/events/shabbat-morning-service-14/
SUMMARY:Shabbat Morning Service 
DESCRIPTION:Shabbat Morning Service\nJoin Rabbi Arthur for a Spiritual Shab
 bat morning Service at the Jewish Federation of Greater Santa Barbara with
  Prayer\, songs\, and Torah discussion Kiddush\, and light lunch will foll
 ow.\n
CATEGORIES:Shabbat Service
LOCATION:The Jewish Federation’s Bronfman Family JCC.\, 524 Chapala St\, 
 Santa Barbara\, CA\, 93101\, United States
GEO:34.416685;-119.697105
X-APPLE-STRUCTURED-LOCATION;VALUE=URI;X-ADDRESS=524 Chapala St\, Santa Barb
 ara\, CA\, 93101\, United States;X-APPLE-RADIUS=100;X-TITLE=The Jewish Fed
 eration’s Bronfman Family JCC.:geo:34.416685,-119.697105
END:VEVENT
BEGIN:VTIMEZONE
TZID:America/Los_Angeles
X-LIC-LOCATION:America/Los_Angeles
BEGIN:STANDARD
DTSTART:20221106T010000
TZOFFSETFROM:-0700
TZOFFSETTO:-0800
TZNAME:PST
END:STANDARD
END:VTIMEZONE
END:VCALENDAR