BEGIN:VCALENDAR
VERSION:2.0
PRODID:-//wp-events-plugin.com//7.0.4//EN
TZID:America/Los_Angeles
X-WR-TIMEZONE:America/Los_Angeles
BEGIN:VEVENT
UID:579@communityshul.com
DTSTART;TZID=America/Los_Angeles:20220917T103000
DTEND;TZID=America/Los_Angeles:20220917T123000
DTSTAMP:20220916T200950Z
URL:https://communityshul.com/events/shabbat-morning-service-17/
SUMMARY:Shabbat Morning Service 
DESCRIPTION:Shabbat Morning Service\nJoin Rabbi Arthur for a Spiritual Shab
 bat morning Service at the Jewish Federation of Greater Santa Barbara with
  Prayer\, songs\, and Torah discussion Kiddush\, light lunch and Kabbalah 
 at 1:00 p.m. will follow.\n
CATEGORIES:Kabballah,Shabbat Service
LOCATION:The Jewish Federation’s Bronfman Family JCC.\, 524 Chapala St\, 
 Santa Barbara\, CA\, 93101\, United States
GEO:34.416685;-119.697105
X-APPLE-STRUCTURED-LOCATION;VALUE=URI;X-ADDRESS=524 Chapala St\, Santa Barb
 ara\, CA\, 93101\, United States;X-APPLE-RADIUS=100;X-TITLE=The Jewish Fed
 eration’s Bronfman Family JCC.:geo:34.416685,-119.697105
END:VEVENT
BEGIN:VTIMEZONE
TZID:America/Los_Angeles
X-LIC-LOCATION:America/Los_Angeles
BEGIN:DAYLIGHT
DTSTART:20220313T030000
TZOFFSETFROM:-0800
TZOFFSETTO:-0700
TZNAME:PDT
END:DAYLIGHT
END:VTIMEZONE
END:VCALENDAR