BEGIN:VCALENDAR
VERSION:2.0
PRODID:-//wp-events-plugin.com//7.0.4//EN
TZID:America/Los_Angeles
X-WR-TIMEZONE:America/Los_Angeles
BEGIN:VEVENT
UID:622@communityshul.com
DTSTART;TZID=America/Los_Angeles:20231118T103000
DTEND;TZID=America/Los_Angeles:20231118T123000
DTSTAMP:20231009T193307Z
URL:https://communityshul.com/events/shabbat-morning-service-18/
SUMMARY:Shabbat Morning Service
DESCRIPTION:We invite you to join us for a heartwarming Shabbat morning ser
 vice.\nDate &amp\; Time: Nov 18\, 10:30 AM\nLocation: Rabbi Arthur's Resi
 dence\n4598 Camino Molinero\nSanta Barbara\, CA 93110\nAfter the service\,
  we'll be sharing a delightful light lunch. We would be thrilled if you co
 uld join us. Feel free to bring your family\, and extend the invitation to
  your friends as well.\nOur gatherings are known for their warm and inclus
 ive atmosphere\, fostering a sense of intimacy and engagement. We look for
 ward to sharing this special day with you.
CATEGORIES:Shabbat Service
LOCATION:Rabbi Arthur's home\, 4598 Camino Molinero\, Santa Barbara\, CA\, 
 93110\, United States
GEO:34.454977;-119.780821
X-APPLE-STRUCTURED-LOCATION;VALUE=URI;X-ADDRESS=4598 Camino Molinero\, Sant
 a Barbara\, CA\, 93110\, United States;X-APPLE-RADIUS=100;X-TITLE=Rabbi Ar
 thur's home:geo:34.454977,-119.780821
END:VEVENT
BEGIN:VTIMEZONE
TZID:America/Los_Angeles
X-LIC-LOCATION:America/Los_Angeles
BEGIN:STANDARD
DTSTART:20231105T010000
TZOFFSETFROM:-0700
TZOFFSETTO:-0800
TZNAME:PST
END:STANDARD
END:VTIMEZONE
END:VCALENDAR