BEGIN:VCALENDAR
VERSION:2.0
PRODID:-//wp-events-plugin.com//7.0.4//EN
TZID:America/Los_Angeles
X-WR-TIMEZONE:America/Los_Angeles
BEGIN:VEVENT
UID:506@communityshul.com
DTSTART;TZID=America/Los_Angeles:20211211T103000
DTEND;TZID=America/Los_Angeles:20211211T123000
DTSTAMP:20211206T191530Z
URL:https://communityshul.com/events/shabbat-morning-service-2/
SUMMARY:Shabbat Morning Service .
DESCRIPTION:Join Rabbi Arthur for a Spiritual Shabbat morning Service at th
 e Jewish Federation of Greater Santa Barbara with Prayer\, songs\, and Tor
 ah discussion Kiddush\, a light lunch and Kabbalah will follow.\nThe servi
 ce will take place indoors masks and proof of vaccination will be require
 d ! \n
CATEGORIES:Shabbat Service
LOCATION:The Jewish Federation’s Bronfman Family JCC.\, 524 Chapala St\, 
 Santa Barbara\, CA\, 93101\, United States
GEO:34.416685;-119.697105
X-APPLE-STRUCTURED-LOCATION;VALUE=URI;X-ADDRESS=524 Chapala St\, Santa Barb
 ara\, CA\, 93101\, United States;X-APPLE-RADIUS=100;X-TITLE=The Jewish Fed
 eration’s Bronfman Family JCC.:geo:34.416685,-119.697105
END:VEVENT
BEGIN:VTIMEZONE
TZID:America/Los_Angeles
X-LIC-LOCATION:America/Los_Angeles
BEGIN:STANDARD
DTSTART:20211107T010000
TZOFFSETFROM:-0700
TZOFFSETTO:-0800
TZNAME:PST
END:STANDARD
END:VTIMEZONE
END:VCALENDAR