BEGIN:VCALENDAR
VERSION:2.0
PRODID:-//wp-events-plugin.com//7.0.4//EN
TZID:America/Los_Angeles
X-WR-TIMEZONE:America/Los_Angeles
BEGIN:VEVENT
UID:626@communityshul.com
DTSTART;TZID=America/Los_Angeles:20240127T103000
DTEND;TZID=America/Los_Angeles:20240127T123000
DTSTAMP:20240111T181423Z
URL:https://communityshul.com/events/shabbat-morning-service-21/
SUMMARY:Shabbat and Tu B'Shevat Morning Service
DESCRIPTION:We invite you to join us for a heartwarming Shabbat and Tu B'Sh
 evat morning service.\nDate &amp\; Time: Jan. 27 10:30 AM\nLocation: Rabb
 i Arthur's Residence\n4598 Camino Molinero\nSanta Barbara\, CA 93110\nAfte
 r the service\, we'll be sharing a delightful light lunch with a variety o
 f delicious fruits like\, dates\, figs\, nuts\, berries. We would be thril
 led if you could join us. Feel free to bring your family\, and extend the 
 invitation to your friends as well.\nOur gatherings are known for their wa
 rm and inclusive atmosphere\, fostering a sense of intimacy and engagement
 . We look forward to sharing this special day with you.
CATEGORIES:Shabbat Service
LOCATION:Rabbi Arthur's home\, 4598 Camino Molinero\, Santa Barbara\, CA\, 
 93110\, United States
GEO:34.454977;-119.780821
X-APPLE-STRUCTURED-LOCATION;VALUE=URI;X-ADDRESS=4598 Camino Molinero\, Sant
 a Barbara\, CA\, 93110\, United States;X-APPLE-RADIUS=100;X-TITLE=Rabbi Ar
 thur's home:geo:34.454977,-119.780821
END:VEVENT
BEGIN:VTIMEZONE
TZID:America/Los_Angeles
X-LIC-LOCATION:America/Los_Angeles
BEGIN:STANDARD
DTSTART:20231105T010000
TZOFFSETFROM:-0700
TZOFFSETTO:-0800
TZNAME:PST
END:STANDARD
END:VTIMEZONE
END:VCALENDAR