BEGIN:VCALENDAR
VERSION:2.0
PRODID:-//wp-events-plugin.com//7.0.4//EN
TZID:America/Los_Angeles
X-WR-TIMEZONE:America/Los_Angeles
BEGIN:VEVENT
UID:621@communityshul.com
DTSTART;TZID=America/Los_Angeles:20231007T103000
DTEND;TZID=America/Los_Angeles:20231007T123000
DTSTAMP:20231002T212827Z
URL:https://communityshul.com/events/shabbat-morning-service-shemini-atzer
 et-simchat-torah-celebration-3/
SUMMARY:Shabbat Morning Service & Shemini Atzeret / Simchat Torah Celebrati
 on
DESCRIPTION:Shabbat Morning Service &amp\; Shemini Atzeret / Simchat Torah 
 Celebration\nWe invite you to join us for a heartwarming Shabbat morning s
 ervice and our vibrant Simchat Torah celebration\, featuring the hakafot.\
 nDate &amp\; Time: October 7th\, 10:30 AM\nLocation: Rabbi Arthur's Resid
 ence\n4598 Camino Molinero\nSanta Barbara\, CA 93110\nAfter the service\, 
 we'll be sharing a delightful light lunch. We would be thrilled if you cou
 ld join us. Feel free to bring your family\, and extend the invitation to 
 your friends as well.\nOur gatherings are known for their warm and inclusi
 ve atmosphere\, fostering a sense of intimacy and engagement. We look forw
 ard to sharing this special day with you.
CATEGORIES:Celebration,Shabbat Service
LOCATION:Rabbi Arthur's home\, 4598 Camino Molinero\, Santa Barbara\, CA\, 
 93110\, United States
GEO:34.454977;-119.780821
X-APPLE-STRUCTURED-LOCATION;VALUE=URI;X-ADDRESS=4598 Camino Molinero\, Sant
 a Barbara\, CA\, 93110\, United States;X-APPLE-RADIUS=100;X-TITLE=Rabbi Ar
 thur's home:geo:34.454977,-119.780821
END:VEVENT
BEGIN:VTIMEZONE
TZID:America/Los_Angeles
X-LIC-LOCATION:America/Los_Angeles
BEGIN:DAYLIGHT
DTSTART:20230312T030000
TZOFFSETFROM:-0800
TZOFFSETTO:-0700
TZNAME:PDT
END:DAYLIGHT
END:VTIMEZONE
END:VCALENDAR