BEGIN:VCALENDAR
VERSION:2.0
PRODID:-//wp-events-plugin.com//7.0.4//EN
TZID:America/Los_Angeles
X-WR-TIMEZONE:America/Los_Angeles
BEGIN:VEVENT
UID:457@communityshul.com
DTSTART;TZID=America/Los_Angeles:20210516T190000
DTEND;TZID=America/Los_Angeles:20210516T200000
DTSTAMP:20201230T215025Z
URL:https://communityshul.com/events/shavuot-study/
SUMMARY:Shavuot study session
DESCRIPTION:Please join Rabbi Arthur for an hour of a study session held on
  the night of Shavuot.
CATEGORIES:Celebration
END:VEVENT
BEGIN:VTIMEZONE
TZID:America/Los_Angeles
X-LIC-LOCATION:America/Los_Angeles
BEGIN:DAYLIGHT
DTSTART:20210314T030000
TZOFFSETFROM:-0800
TZOFFSETTO:-0700
TZNAME:PDT
END:DAYLIGHT
END:VTIMEZONE
END:VCALENDAR