BEGIN:VCALENDAR
VERSION:2.0
PRODID:-//wp-events-plugin.com//7.0.4//EN
TZID:America/Los_Angeles
X-WR-TIMEZONE:America/Los_Angeles
BEGIN:VEVENT
UID:436@communityshul.com
DTSTART;TZID=America/Los_Angeles:20201212T103000
DTEND;TZID=America/Los_Angeles:20201212T120000
DTSTAMP:20201209T195717Z
URL:https://communityshul.com/events/spiritual-shabbat-and-chanukah-mornin
 g-service/
SUMMARY:Spiritual Shabbat and Chanukah morning Service
DESCRIPTION:Join us for a spiritual Shabbat and Chanukah morning service on
  Zoom\n\nSaturday\, December 12 at 10:30 a.m.\n----------\n\nled by Rabbi 
 Arthur\, Renee and Itzik with Prayer\, songs\, and Torah discussion.\n\nIf
  you wish to follow the Shabbat morning service with the Community Shul pr
 ayer book\, please let Itzik know. ([Communityshul@gmail.com](mailto:Commu
 nityshul@gmail.com)).\n\nThe prayer books will be available for pick up on
  Friday\, December 11 between 12 - 1 p.m. at the Jewish Federation.\n-----
 -----\nTo join Zoom Shabbat morning Service click here\n----------\n\nMeet
 ing ID: 827 4048 3744\nPasscode: 304971\n\n
CATEGORIES:Celebration,Shabbat Service
END:VEVENT
BEGIN:VTIMEZONE
TZID:America/Los_Angeles
X-LIC-LOCATION:America/Los_Angeles
BEGIN:STANDARD
DTSTART:20201101T010000
TZOFFSETFROM:-0700
TZOFFSETTO:-0800
TZNAME:PST
END:STANDARD
END:VTIMEZONE
END:VCALENDAR