BEGIN:VCALENDAR
VERSION:2.0
PRODID:-//wp-events-plugin.com//7.0.4//EN
TZID:America/Los_Angeles
X-WR-TIMEZONE:America/Los_Angeles
BEGIN:VEVENT
UID:383@communityshul.com
DTSTART:20191109T173000Z
DTEND:20191109T193000Z
DTSTAMP:20191101T160024Z
URL:https://communityshul.com/events/spiritual-shabbat-morning-2/
SUMMARY:Spiritual Shabbat morning
DESCRIPTION:Please join us for a Spiritual Shabbat morning  service with 
 prayers\, songs\, and Torah study\, at the Jewish Community Center. Kiddu
 sh\, a light lunch will follow.\n\n
CATEGORIES:Shabbat Service
LOCATION:The Jewish Federation’s Bronfman Family JCC.\, 524 Chapala St\, 
 Santa Barbara\, CA\, 93101\, United States
GEO:34.416685;-119.697105
X-APPLE-STRUCTURED-LOCATION;VALUE=URI;X-ADDRESS=524 Chapala St\, Santa Barb
 ara\, CA\, 93101\, United States;X-APPLE-RADIUS=100;X-TITLE=The Jewish Fed
 eration’s Bronfman Family JCC.:geo:34.416685,-119.697105
END:VEVENT
END:VCALENDAR