BEGIN:VCALENDAR
VERSION:2.0
PRODID:-//wp-events-plugin.com//7.0.4//EN
TZID:America/Los_Angeles
X-WR-TIMEZONE:America/Los_Angeles
BEGIN:VEVENT
UID:103@communityshul.com
DTSTART:20180505T070000Z
DTEND:20180505T070000Z
DTSTAMP:20180504T222448Z
URL:https://communityshul.com/events/spiritual-shabbat-morning-service-13/
SUMMARY:Spiritual Shabbat morning service 
DESCRIPTION:Spiritual Shabbat morning service led by Rabbi Arthur with pra
 yers\, songs\, and Torah study\, at the home of Peter Melnick. Kiddush and
  a light lunch will follow.\n\n
CATEGORIES:Shabbat Service
LOCATION:Peter Melnick\, 705 Park Ln\, Santa Barbara\, CA\, 93108\, United 
 States
GEO:34.4426406;-119.618898
X-APPLE-STRUCTURED-LOCATION;VALUE=URI;X-ADDRESS=705 Park Ln\, Santa Barbara
 \, CA\, 93108\, United States;X-APPLE-RADIUS=100;X-TITLE=Peter Melnick:geo
 :34.4426406,-119.618898
END:VEVENT
END:VCALENDAR