BEGIN:VCALENDAR
VERSION:2.0
PRODID:-//wp-events-plugin.com//7.0.4//EN
TZID:America/Los_Angeles
X-WR-TIMEZONE:America/Los_Angeles
BEGIN:VEVENT
UID:104@communityshul.com
DTSTART:20180609T173000Z
DTEND:20180609T193000Z
DTSTAMP:20180521T234946Z
URL:https://communityshul.com/events/spiritual-shabbat-morning-service-14/
SUMMARY:Spiritual Shabbat morning service
DESCRIPTION:Spiritual Shabbat morning service led by Itzik Ben Sasson and 
 Debi Lewis with prayers\, songs\, and Torah study\, at the home of Laini M
 illar Melnick. Kiddush and a light lunch will follow.\n\n
CATEGORIES:Shabbat Service
LOCATION:Laini Millar Melnick\, 116 Miramar Ave.\, Santa Barbara\, CA\, 931
 08 \, United States
GEO:34.422906;-119.62944900000002
X-APPLE-STRUCTURED-LOCATION;VALUE=URI;X-ADDRESS=116 Miramar Ave.\, Santa Ba
 rbara\, CA\, 93108 \, United States;X-APPLE-RADIUS=100;X-TITLE=Laini Milla
 r Melnick:geo:34.422906,-119.62944900000002
END:VEVENT
END:VCALENDAR