BEGIN:VCALENDAR
VERSION:2.0
PRODID:-//wp-events-plugin.com//7.0.4//EN
TZID:America/Los_Angeles
X-WR-TIMEZONE:America/Los_Angeles
BEGIN:VEVENT
UID:172@communityshul.com
DTSTART:20171118T173000Z
DTEND:20171118T200000Z
DTSTAMP:20171109T183712Z
URL:https://communityshul.com/events/spiritual-shabbat-morning-service-17/
SUMMARY:Spiritual Shabbat morning Service
DESCRIPTION:Spiritual Shabbat morning service led by Rabbi Arthur with pra
 yers\, songs\, and Torah study\, at the home of Laini Millar Melnick.  Ki
 ddush and a light lunch will follow.\n\n
CATEGORIES:Shabbat Service
LOCATION:Laini Millar Melnick\, 116 Miramar Ave.\, Santa Barbara\, CA\, 931
 08 \, United States
GEO:34.422906;-119.62944900000002
X-APPLE-STRUCTURED-LOCATION;VALUE=URI;X-ADDRESS=116 Miramar Ave.\, Santa Ba
 rbara\, CA\, 93108 \, United States;X-APPLE-RADIUS=100;X-TITLE=Laini Milla
 r Melnick:geo:34.422906,-119.62944900000002
END:VEVENT
END:VCALENDAR