BEGIN:VCALENDAR
VERSION:2.0
PRODID:-//wp-events-plugin.com//7.0.4//EN
TZID:America/Los_Angeles
X-WR-TIMEZONE:America/Los_Angeles
BEGIN:VEVENT
UID:202@communityshul.com
DTSTART:20180728T173000Z
DTEND:20180728T193000Z
DTSTAMP:20180723T012236Z
URL:https://communityshul.com/events/spiritual-shabbat-morning-service-20/
SUMMARY:Spiritual Shabbat morning service
DESCRIPTION:Join us on Saturday\, July 28 10:30 a.m for a Spiritual Shabb
 at morning service with prayers\, songs and Torah Study at the home of  R
 abbi Arthur Kiddush and a light lunch will follow.
CATEGORIES:Shabbat Service
LOCATION:Rabbi Arthur's home\, 4598 Camino Molinero\, Santa Barbara\, CA\, 
 93110\, United States
GEO:34.454977;-119.780821
X-APPLE-STRUCTURED-LOCATION;VALUE=URI;X-ADDRESS=4598 Camino Molinero\, Sant
 a Barbara\, CA\, 93110\, United States;X-APPLE-RADIUS=100;X-TITLE=Rabbi Ar
 thur's home:geo:34.454977,-119.780821
END:VEVENT
END:VCALENDAR