BEGIN:VCALENDAR
VERSION:2.0
PRODID:-//wp-events-plugin.com//7.0.4//EN
TZID:America/Los_Angeles
X-WR-TIMEZONE:America/Los_Angeles
BEGIN:VEVENT
UID:275@communityshul.com
DTSTART:20190511T173000Z
DTEND:20190511T193000Z
DTSTAMP:20190501T223045Z
URL:https://communityshul.com/events/spiritual-shabbat-morning-service-29/
SUMMARY:Spiritual Shabbat Morning Service
DESCRIPTION:Spiritual Shabbat morning service on Saturday\, May 11 10:30 a
 .m led by Rabbi Arthur with prayers\, songs\, and Torah study. Kiddush 
 and a light lunch will follow.\n\n
CATEGORIES:Shabbat Service
LOCATION:Rabbi Arthur's home\, 4598 Camino Molinero\, Santa Barbara\, CA\, 
 93110\, United States
GEO:34.454977;-119.780821
X-APPLE-STRUCTURED-LOCATION;VALUE=URI;X-ADDRESS=4598 Camino Molinero\, Sant
 a Barbara\, CA\, 93110\, United States;X-APPLE-RADIUS=100;X-TITLE=Rabbi Ar
 thur's home:geo:34.454977,-119.780821
END:VEVENT
END:VCALENDAR