BEGIN:VCALENDAR
VERSION:2.0
PRODID:-//wp-events-plugin.com//7.0.4//EN
TZID:America/Los_Angeles
X-WR-TIMEZONE:America/Los_Angeles
BEGIN:VEVENT
UID:380@communityshul.com
DTSTART:20200222T173000Z
DTEND:20200222T203000Z
DTSTAMP:20200219T172409Z
URL:https://communityshul.com/events/spiritual-shabbat-morning-service-30/
SUMMARY:Spiritual Shabbat morning service and Jewish meditation
DESCRIPTION:Please join us for a Spiritual Shabbat morning service with pra
 yers\, songs\, and Torah study\, at the home of of Rabbi Arthur. Kiddush\,
  a light lunch followed by half an hour of Jewish meditation led by Renee 
 Golan from 1:00-1:30 p.m.
CATEGORIES:Shabbat Service
LOCATION:Rabbi Arthur's home\, 4598 Camino Molinero\, Santa Barbara\, CA\, 
 93110\, United States
GEO:34.454977;-119.780821
X-APPLE-STRUCTURED-LOCATION;VALUE=URI;X-ADDRESS=4598 Camino Molinero\, Sant
 a Barbara\, CA\, 93110\, United States;X-APPLE-RADIUS=100;X-TITLE=Rabbi Ar
 thur's home:geo:34.454977,-119.780821
END:VEVENT
END:VCALENDAR