BEGIN:VCALENDAR
VERSION:2.0
PRODID:-//wp-events-plugin.com//7.0.4//EN
TZID:America/Los_Angeles
X-WR-TIMEZONE:America/Los_Angeles
BEGIN:VEVENT
UID:281@communityshul.com
DTSTART:20190126T173000Z
DTEND:20190126T193000Z
DTSTAMP:20181217T203525Z
URL:https://communityshul.com/events/spiritual-shabbat-morning-service-33/
SUMMARY:Spiritual Shabbat Morning Service
DESCRIPTION:Spiritual Shabbat morning service on Saturday\, Jan 26 10:30 a
 .m led by Rabbi Arthur with prayers\, songs\, and Torah study. Kiddush 
 and a light lunch will follow.\n\n
CATEGORIES:Shabbat Service
LOCATION:Peter Melnick\, 705 Park Ln\, Santa Barbara\, CA\, 93108\, United 
 States
GEO:34.4426406;-119.618898
X-APPLE-STRUCTURED-LOCATION;VALUE=URI;X-ADDRESS=705 Park Ln\, Santa Barbara
 \, CA\, 93108\, United States;X-APPLE-RADIUS=100;X-TITLE=Peter Melnick:geo
 :34.4426406,-119.618898
END:VEVENT
END:VCALENDAR