BEGIN:VCALENDAR
VERSION:2.0
PRODID:-//wp-events-plugin.com//7.0.4//EN
TZID:America/Los_Angeles
X-WR-TIMEZONE:America/Los_Angeles
BEGIN:VEVENT
UID:282@communityshul.com
DTSTART:20190223T173000Z
DTEND:20190223T193000Z
DTSTAMP:20190211T225225Z
URL:https://communityshul.com/events/spiritual-shabbat-morning-service-34/
SUMMARY:Spiritual Shabbat Morning Service
DESCRIPTION:Spiritual Shabbat morning service on Saturday\, Feb 23 10:30 a
 .m led by Rabbi Arthur with prayers\, songs\, and Torah study. Kiddush 
 and a light lunch will follow.\n\n
CATEGORIES:Shabbat Service
LOCATION:Laini Millar Melnick\, 116 Miramar Ave.\, Santa Barbara\, CA\, 931
 08 \, United States
X-APPLE-STRUCTURED-LOCATION;VALUE=URI;X-ADDRESS=116 Miramar Ave.\, Santa Ba
 rbara\, CA\, 93108 \, United States;X-APPLE-RADIUS=100;X-TITLE=Laini Milla
 r Melnick:geo:0,0
END:VEVENT
END:VCALENDAR