BEGIN:VCALENDAR
VERSION:2.0
PRODID:-//wp-events-plugin.com//7.0.4//EN
TZID:America/Los_Angeles
X-WR-TIMEZONE:America/Los_Angeles
BEGIN:VEVENT
UID:284@communityshul.com
DTSTART:20190427T173000Z
DTEND:20190427T193000Z
DTSTAMP:20190422T164917Z
URL:https://communityshul.com/events/spiritual-shabbat-morning-service-36/
SUMMARY:Final Day of Passover - Spiritual Shabbat Morning and Yizkor Servic
 e
DESCRIPTION:Final Day of Passover - Please join us for a Spiritual Shabbat 
 and Yizkor service on  led by Rabbi Arthur with prayers\, songs\, and T
 orah study. Kiddush and a light lunch will follow.\n
CATEGORIES:Shabbat Service
LOCATION:Rabbi Arthur's home\, 4598 Camino Molinero\, Santa Barbara\, CA\, 
 93110\, United States
GEO:34.454977;-119.780821
X-APPLE-STRUCTURED-LOCATION;VALUE=URI;X-ADDRESS=4598 Camino Molinero\, Sant
 a Barbara\, CA\, 93110\, United States;X-APPLE-RADIUS=100;X-TITLE=Rabbi Ar
 thur's home:geo:34.454977,-119.780821
END:VEVENT
END:VCALENDAR