BEGIN:VCALENDAR
VERSION:2.0
PRODID:-//wp-events-plugin.com//7.0.4//EN
TZID:America/Los_Angeles
X-WR-TIMEZONE:America/Los_Angeles
BEGIN:VEVENT
UID:386@communityshul.com
DTSTART:20200125T173000Z
DTEND:20200125T193000Z
DTSTAMP:20191223T182508Z
URL:https://communityshul.com/events/spiritual-shabbat-morning-service-37/
SUMMARY:Spiritual Shabbat morning service 
DESCRIPTION:Please join us for a Spiritual Shabbat morning service with pr
 ayers\, songs\, and Torah study\, with Rabbi Arthur. Kiddush\, a light lu
 nch will follow.\n\n
CATEGORIES:Shabbat Service
LOCATION:The Jewish Federation’s Bronfman Family JCC.\, 524 Chapala St\, 
 Santa Barbara\, CA\, 93101\, United States
GEO:34.416685;-119.697105
X-APPLE-STRUCTURED-LOCATION;VALUE=URI;X-ADDRESS=524 Chapala St\, Santa Barb
 ara\, CA\, 93101\, United States;X-APPLE-RADIUS=100;X-TITLE=The Jewish Fed
 eration’s Bronfman Family JCC.:geo:34.416685,-119.697105
END:VEVENT
END:VCALENDAR