BEGIN:VCALENDAR
VERSION:2.0
PRODID:-//wp-events-plugin.com//7.0.4//EN
TZID:America/Los_Angeles
X-WR-TIMEZONE:America/Los_Angeles
BEGIN:VEVENT
UID:97@communityshul.com
DTSTART:20171104T173000Z
DTEND:20171104T193000Z
DTSTAMP:20171026T170520Z
URL:https://communityshul.com/events/spiritual-shabbat-morning-service-8/
SUMMARY:Spiritual Shabbat morning service
DESCRIPTION:Spiritual Shabbat morning service led by Rabbi Arthur with pra
 yers\, songs\, and Torah study\, at the Social Room of Valle Verde Retirem
 ent Community\, located at  Valle Verde  900 Calle de los Amigos\, Santa
  Barbara\, CA 93105 Kiddush and a light lunch will follow.\n\n
CATEGORIES:Shabbat Service
LOCATION:Valle Verde\, 900 Calle de los Amigos\, Santa Barbara\, CA\, 93105
 \, United States
GEO:34.4242457;-119.75135929999999
X-APPLE-STRUCTURED-LOCATION;VALUE=URI;X-ADDRESS=900 Calle de los Amigos\, S
 anta Barbara\, CA\, 93105\, United States;X-APPLE-RADIUS=100;X-TITLE=Valle
  Verde:geo:34.4242457,-119.75135929999999
END:VEVENT
END:VCALENDAR