BEGIN:VCALENDAR
VERSION:2.0
PRODID:-//wp-events-plugin.com//7.0.4//EN
TZID:America/Los_Angeles
X-WR-TIMEZONE:America/Los_Angeles
BEGIN:VEVENT
UID:450@communityshul.com
DTSTART;TZID=America/Los_Angeles:20210213T103000
DTEND;TZID=America/Los_Angeles:20210213T120000
DTSTAMP:20201230T203611Z
URL:https://communityshul.com/events/spiritual-shabbat-morning-service-onl
 ine-2/
SUMMARY:Spiritual Shabbat morning Service online
DESCRIPTION:Join us for a Spiritual Shabbat morning Service online with Pr
 ayer\, songs\, and Torah discussion.\n\nIf you wish to follow the Shabbat 
 morning service with the Community Shul's prayer book\, please contact Itz
 ik at  Communityshul@gmail.com\n\n&nbsp\;
CATEGORIES:Shabbat Service
END:VEVENT
BEGIN:VTIMEZONE
TZID:America/Los_Angeles
X-LIC-LOCATION:America/Los_Angeles
BEGIN:STANDARD
DTSTART:20201101T010000
TZOFFSETFROM:-0700
TZOFFSETTO:-0800
TZNAME:PST
END:STANDARD
END:VTIMEZONE
END:VCALENDAR