BEGIN:VCALENDAR
VERSION:2.0
PRODID:-//wp-events-plugin.com//7.0.4//EN
TZID:America/Los_Angeles
X-WR-TIMEZONE:America/Los_Angeles
BEGIN:VEVENT
UID:452@communityshul.com
DTSTART;TZID=America/Los_Angeles:20220226T103000
DTEND;TZID=America/Los_Angeles:20220226T123000
DTSTAMP:20220224T165216Z
URL:https://communityshul.com/events/spiritual-shabbat-morning-service-onl
 ine-4/
SUMMARY:Spiritual Shabbat morning Service
DESCRIPTION:Join us for a Spiritual Shabbat morning Service with Prayer\, s
 ongs\, and Torah discussion with Prayer\, songs\, and Torah discussion Kid
 dush\, at Rabbi Arthur's home (4598 Camino Molinero\, Santa Barbara\, CA 9
 3110) a light lunch will follow.\n\n&nbsp\;
CATEGORIES:Shabbat Service
LOCATION:Rabbi Arthur's home\, 4598 Camino Molinero\, Santa Barbara\, CA\, 
 93110\, United States
GEO:34.454977;-119.780821
X-APPLE-STRUCTURED-LOCATION;VALUE=URI;X-ADDRESS=4598 Camino Molinero\, Sant
 a Barbara\, CA\, 93110\, United States;X-APPLE-RADIUS=100;X-TITLE=Rabbi Ar
 thur's home:geo:34.454977,-119.780821
END:VEVENT
BEGIN:VTIMEZONE
TZID:America/Los_Angeles
X-LIC-LOCATION:America/Los_Angeles
BEGIN:STANDARD
DTSTART:20211107T010000
TZOFFSETFROM:-0700
TZOFFSETTO:-0800
TZNAME:PST
END:STANDARD
END:VTIMEZONE
END:VCALENDAR