BEGIN:VCALENDAR
VERSION:2.0
PRODID:-//wp-events-plugin.com//7.0.4//EN
TZID:America/Los_Angeles
X-WR-TIMEZONE:America/Los_Angeles
BEGIN:VEVENT
UID:376@communityshul.com
DTSTART:20191207T173000Z
DTEND:20191207T193000Z
DTSTAMP:20191118T184652Z
URL:https://communityshul.com/events/spiritual-shabbat-service-4/
SUMMARY:Spiritual Shabbat Service
DESCRIPTION:Please join us for a Spiritual Shabbat morning  service with p
 rayers\, songs\, and Torah study\, at the home of of Rabbi Arthur. Kiddus
 h\, a light lunch will follow.\n\n
CATEGORIES:Shabbat Service
LOCATION:Rabbi Arthur's home\, 4598 Camino Molinero\, Santa Barbara\, CA\, 
 93110\, United States
GEO:34.454977;-119.780821
X-APPLE-STRUCTURED-LOCATION;VALUE=URI;X-ADDRESS=4598 Camino Molinero\, Sant
 a Barbara\, CA\, 93110\, United States;X-APPLE-RADIUS=100;X-TITLE=Rabbi Ar
 thur's home:geo:34.454977,-119.780821
END:VEVENT
END:VCALENDAR