BEGIN:VCALENDAR
VERSION:2.0
PRODID:-//wp-events-plugin.com//7.0.4//EN
TZID:America/Los_Angeles
X-WR-TIMEZONE:America/Los_Angeles
BEGIN:VEVENT
UID:377@communityshul.com
DTSTART:20190921T173000Z
DTEND:20190921T193000Z
DTSTAMP:20190909T184717Z
URL:https://communityshul.com/events/spiritual-shabbat-service-5/
SUMMARY:Spiritual Shabbat Service
DESCRIPTION:Please join us for a Spiritual Shabbat morning  service with 
 prayers\, songs\, and Torah study\, at the Jewish Community Center. Kiddu
 sh\, a light lunch will follow.
CATEGORIES:Shabbat Service
LOCATION:Jewish Community Center\, 524 Chapala St \, Santa Barbara\, CA\, 
 93101\, United States
GEO:34.4166846;-119.69710520000001
X-APPLE-STRUCTURED-LOCATION;VALUE=URI;X-ADDRESS=524 Chapala St \, Santa Ba
 rbara\, CA\, 93101\, United States;X-APPLE-RADIUS=100;X-TITLE=Jewish Commu
 nity Center:geo:34.4166846,-119.69710520000001
END:VEVENT
END:VCALENDAR