BEGIN:VCALENDAR
VERSION:2.0
PRODID:-//wp-events-plugin.com//7.0.4//EN
TZID:America/Los_Angeles
X-WR-TIMEZONE:America/Los_Angeles
BEGIN:VEVENT
UID:429@communityshul.com
DTSTART;TZID=America/Los_Angeles:20201002T180000
DTEND;TZID=America/Los_Angeles:20201002T183000
DTSTAMP:20200930T175114Z
URL:https://communityshul.com/events/sukkot-celebration/
SUMMARY:Shabbat and Sukkot with Rabbi Arthur
DESCRIPTION:Join Rabbi Arthur on zoom welcoming Shabbat and Sukkot \, it's 
 thirty minutes where we join to bring in the Shabbat and Sukkot with singi
 ng\, a story\, a little teaching and then the blessings.\nTo make it a mor
 e special family event\, set up your table with two candles\, matches\, a 
 cup of juice/wine and a Challah and honey.\nShabbat and Sukkot is a time f
 or families to gather to both celebrate Shabbat and the family!\n\nTo join
  the Zoom Meeting please click here\nMeeting ID: 856 3889 9063\nPasscode: 
 102893\n\n
CATEGORIES:Celebration
END:VEVENT
BEGIN:VTIMEZONE
TZID:America/Los_Angeles
X-LIC-LOCATION:America/Los_Angeles
BEGIN:DAYLIGHT
DTSTART:20200308T030000
TZOFFSETFROM:-0800
TZOFFSETTO:-0700
TZNAME:PDT
END:DAYLIGHT
END:VTIMEZONE
END:VCALENDAR