BEGIN:VCALENDAR
VERSION:2.0
PRODID:-//wp-events-plugin.com//7.0.4//EN
TZID:America/Los_Angeles
X-WR-TIMEZONE:America/Los_Angeles
BEGIN:VEVENT
UID:210@communityshul.com
DTSTART:20180930T233000Z
DTEND:20181001T003000Z
DTSTAMP:20180813T170141Z
URL:https://communityshul.com/events/sukkot-open-house-2/
SUMMARY:Sukkot Open House
DESCRIPTION:Sukkot Open House for those interested in ADULT BAR/BAT MITZVAH
 \, CONVERSION\, KABBALAH\,  or learning HEBREW and BASIC JUDAISM\n\nEver 
 wanted to have an adult bar/bar mitzvah? Considering conversion and joinin
 g the Jewish People? Is studying the mystical tradition of Kabbalah exciti
 ng for you? Would you like to begin learning Hebrew and about the Jewish t
 radition? This is an opportunity to see if any of these education programs
  may be of interest to you. Please come to the Gross-Schaefer’s Sukkah w
 ith your questions and thoughts to discuss with Rabbi Arthur\, Itzik and R
 enee.\n\n 
CATEGORIES:Education
LOCATION:Rabbi Arthur's home\, 4598 Camino Molinero\, Santa Barbara\, CA\, 
 93110\, United States
GEO:34.454977;-119.780821
X-APPLE-STRUCTURED-LOCATION;VALUE=URI;X-ADDRESS=4598 Camino Molinero\, Sant
 a Barbara\, CA\, 93110\, United States;X-APPLE-RADIUS=100;X-TITLE=Rabbi Ar
 thur's home:geo:34.454977,-119.780821
END:VEVENT
END:VCALENDAR