BEGIN:VCALENDAR
VERSION:2.0
PRODID:-//wp-events-plugin.com//7.0.4//EN
TZID:America/Los_Angeles
X-WR-TIMEZONE:America/Los_Angeles
BEGIN:VEVENT
UID:495@communityshul.com
DTSTART;TZID=America/Los_Angeles:20210926T150000
DTEND;TZID=America/Los_Angeles:20210926T170000
DTSTAMP:20210915T204030Z
URL:https://communityshul.com/events/sukkoth-celebration-at-the-jewish-fed
 eration/
SUMMARY:Sukkoth Celebration at the Jewish Federation
DESCRIPTION:Sukkoth Celebration at the Jewish Federation of Greater Santa B
 arbara\nRabbi Arthur invites you on Sunday\, September 26 between 3- 5 
 p.m. to fulfill the tradition of waving the Lulav and Etrog at the SB Jewi
 sh Federation Sukkah while reconnecting with an old friend and meeting som
 e new people. Refreshment will be provided.\nMasks will be required for al
 l attendees.
CATEGORIES:Celebration
END:VEVENT
BEGIN:VTIMEZONE
TZID:America/Los_Angeles
X-LIC-LOCATION:America/Los_Angeles
BEGIN:DAYLIGHT
DTSTART:20210314T030000
TZOFFSETFROM:-0800
TZOFFSETTO:-0700
TZNAME:PDT
END:DAYLIGHT
END:VTIMEZONE
END:VCALENDAR