BEGIN:VCALENDAR
VERSION:2.0
PRODID:-//wp-events-plugin.com//7.0.4//EN
TZID:America/Los_Angeles
X-WR-TIMEZONE:America/Los_Angeles
BEGIN:VEVENT
UID:569@communityshul.com
DTSTART;TZID=America/Los_Angeles:20231002T170000
DTEND;TZID=America/Los_Angeles:20231002T180000
DTSTAMP:20230926T163644Z
URL:https://communityshul.com/events/sukkoth-celebration/
SUMMARY:Sukkoth Celebration
DESCRIPTION:Sukkoth\nPlease join Rabbi Arthur on Monday Oct 2 5:00 -6:00 P.
 M. for the Sukkot celebration. \n\nSukkoth Celebration will be at the J
 ewish Federation\, 524 Chapala. The entrance to the Federation\nbuilding i
 s on Fig Avenue which is between Chapala and State and Ortega and Haley.\n
 \n Please make sure you and your family are with us for Fun and Joy in the
  Sukkah. \n\n
CATEGORIES:Celebration
LOCATION:Jewish Community Center\, 524 Chapala St \, Santa Barbara\, CA\, 
 93101\, United States
GEO:34.4166846;-119.69710520000001
X-APPLE-STRUCTURED-LOCATION;VALUE=URI;X-ADDRESS=524 Chapala St \, Santa Ba
 rbara\, CA\, 93101\, United States;X-APPLE-RADIUS=100;X-TITLE=Jewish Commu
 nity Center:geo:34.4166846,-119.69710520000001
END:VEVENT
BEGIN:VTIMEZONE
TZID:America/Los_Angeles
X-LIC-LOCATION:America/Los_Angeles
BEGIN:DAYLIGHT
DTSTART:20230312T030000
TZOFFSETFROM:-0800
TZOFFSETTO:-0700
TZNAME:PDT
END:DAYLIGHT
END:VTIMEZONE
END:VCALENDAR