BEGIN:VCALENDAR
VERSION:2.0
PRODID:-//wp-events-plugin.com//7.0.4//EN
TZID:America/Los_Angeles
X-WR-TIMEZONE:America/Los_Angeles
BEGIN:VEVENT
UID:368@communityshul.com
DTSTART:20211122T223000Z
DTEND:20211122T223000Z
DTSTAMP:20210601T194152Z
URL:https://communityshul.com/events/thanksgiving-no-religious-school-2/
SUMMARY:Thanksgiving  No religious school
DESCRIPTION:
END:VEVENT
END:VCALENDAR