BEGIN:VCALENDAR
VERSION:2.0
PRODID:-//wp-events-plugin.com//7.0.4//EN
TZID:America/Los_Angeles
X-WR-TIMEZONE:America/Los_Angeles
BEGIN:VEVENT
UID:432@communityshul.com
DTSTART;TZID=America/Los_Angeles:20201211T173000
DTEND;TZID=America/Los_Angeles:20201211T183000
DTSTAMP:20201209T195409Z
URL:https://communityshul.com/events/the-second-night-of-chanukah-celebrat
 ion/
SUMMARY:The second Night of Chanukah Celebration Online
DESCRIPTION:Please join **Rabbi Arthur and Peter Melnick today Friday\, Dec
 ember 11 at 5:30 P.M.** for the second Night of Chanukah Celebration – (
 Rabbi Arthur has a prior engagement at a Retirement Community). We’ll br
 ing in the Chanukah and Shabbat with Chanukah songs\, Chanukah story\, a t
 eaching\, and then we'll recite together the blessings to light the Chanuk
 ah and Shabbat candles.\n\nTo make Chanukah and Shabbat Celebration specia
 l family\, please set up your table with the Hanukkiah (menorah) and two C
 hanukah candles placed on the far right of the menorah\, two Shabbat candl
 es\, matches\, a cup of juice/wine a Challah\, latkes (potato pancakes) an
 d sufganiot (jelly donuts).\n\nTo join Zoom Meeting Click here\n\nMeeting 
 ID: 894 8866 8988\nPasscode: 468817\n\n
CATEGORIES:Celebration
END:VEVENT
BEGIN:VTIMEZONE
TZID:America/Los_Angeles
X-LIC-LOCATION:America/Los_Angeles
BEGIN:STANDARD
DTSTART:20201101T010000
TZOFFSETFROM:-0700
TZOFFSETTO:-0800
TZNAME:PST
END:STANDARD
END:VTIMEZONE
END:VCALENDAR