BEGIN:VCALENDAR
VERSION:2.0
PRODID:-//wp-events-plugin.com//7.0.4//EN
TZID:America/Los_Angeles
X-WR-TIMEZONE:America/Los_Angeles
BEGIN:VEVENT
UID:433@communityshul.com
DTSTART;TZID=America/Los_Angeles:20210130T160000
DTEND;TZID=America/Los_Angeles:20210130T170000
DTSTAMP:20210122T191957Z
URL:https://communityshul.com/events/tu-bishvat-seder-and-shabbat/
SUMMARY:kabbalistic Tu BiShvat Seder on Zoom with Rabbi Arthur\, 
DESCRIPTION:Kabbalistic Tu Bi’Shvat Seder on Zoom honoring the trees\, cr
 eation and the individual with Rabbi Arthur\,\n\nWhat you will need:\n\n 	
 White wine or White grape juice.\n 	Red wine or Red grape juice.\n\n A va
 riety of fruits.\n\nThere is a tradition to eat some of the 7 species of t
 he land of Israel - figs\, dates\, pomegranates\, olives\, grapes (or rais
 ins)\, wheat\, and barley.\n\nFruits for the first bowl - hard inedible ou
 ter shells but soft cores\, like pomegranates\, walnuts or citrus fruits.\
 n\nFruits for the second bowl - edible soft outer covering and inedible ha
 rd center\, like dates\, olives or apricots. (Dried fruits are fine)\n\nFr
 uits for the third bowl -fully edible foods such as grapes\, figs and berr
 ies.\n\nFor the fourth bowl - seeds\, wheat and barley products\, e.g. bre
 ad.\n\nTo join Zoom click here \n\nMeeting ID: 897 3902 9837\nPasscode: 9
 80083\n\n\n
CATEGORIES:Celebration,Kabballah
END:VEVENT
BEGIN:VTIMEZONE
TZID:America/Los_Angeles
X-LIC-LOCATION:America/Los_Angeles
BEGIN:STANDARD
DTSTART:20201101T010000
TZOFFSETFROM:-0700
TZOFFSETTO:-0800
TZNAME:PST
END:STANDARD
END:VTIMEZONE
END:VCALENDAR