BEGIN:VCALENDAR
VERSION:2.0
PRODID:-//wp-events-plugin.com//7.0.4//EN
TZID:America/Los_Angeles
X-WR-TIMEZONE:America/Los_Angeles
BEGIN:VEVENT
UID:371@communityshul.com
DTSTART:20200211T010000Z
DTEND:20200211T030000Z
DTSTAMP:20200110T210035Z
URL:https://communityshul.com/events/tu-bishvat-seder-at-the-jewish-federa
 tion-2/
SUMMARY:Tu Bi'Shvat Seder  at the Jewish Federation
DESCRIPTION:The Seder will be a very special adult experience involving t
 he traditional uses of nuts\, fruits\, and wines for this unique\, fun and
  very spiritual Kabalistic meal. \n\n\n\n1 Adult $18 [wpecpp name="1 tick
 et" price="18"]\n\n2 Adults $36 [wpecpp name="2 tickets" price="36"]\n\n3 
 Adults $54 [wpecpp name="3 tickets" price="54"]\n\n4 Adults $72 [wpecpp na
 me="4 tickets" price="72"]
CATEGORIES:Celebration
LOCATION:The Jewish Federation’s Bronfman Family JCC.\, 524 Chapala St\, 
 Santa Barbara\, CA\, 93101\, United States
GEO:34.416685;-119.697105
X-APPLE-STRUCTURED-LOCATION;VALUE=URI;X-ADDRESS=524 Chapala St\, Santa Barb
 ara\, CA\, 93101\, United States;X-APPLE-RADIUS=100;X-TITLE=The Jewish Fed
 eration’s Bronfman Family JCC.:geo:34.416685,-119.697105
END:VEVENT
END:VCALENDAR