BEGIN:VCALENDAR
VERSION:2.0
PRODID:-//wp-events-plugin.com//7.0.4//EN
TZID:America/Los_Angeles
X-WR-TIMEZONE:America/Los_Angeles
BEGIN:VEVENT
UID:257@communityshul.com
DTSTART:20190121T000000Z
DTEND:20190121T030000Z
DTSTAMP:20181228T184300Z
URL:https://communityshul.com/events/tu-bishvat-seder-at-the-jewish-federa
 tion/
SUMMARY:Tu Bi'Shvat Seder at the Jewish Federation
DESCRIPTION:Tu B’Shvat Seder\nThe Seder honoring the trees\, creation and
  the individual\, will take place at the Jewish Federation of Greater Sant
 a Barbara 524 Chapala Street\, Santa Barbara\, CA 93101\n\non Sunday\, Ja
 nuary 20 5:00 p.m.\nThe Seder will be a very special adult experience invo
 lving the traditional uses of nuts\, fruits\, and wines for this unique\, 
 fun and very spiritual Kabalistic meal. This year\, Rabbi Arthur is planni
 ng to team up with several guest rabbis who will share their teachings aro
 und this deeply spiritual holiday of the trees.\nOn the menu: Salmon with 
 side dish\, Green salad\, and drinks.\n1 ticket [wpecpp name="1 ticket " p
 rice="20.00"]\n\n2 tickets [wpecpp name="2 tickets " price="40.00"]\n\n3
  tickets [wpecpp name="3 tickets " price="60.00"]\n\n4 tickets [wpecpp 
 name="4 tickets " price="80.00"]\n\n&nbsp\;\nReservations for the Tu B’
 Shvat Seder MUST be received by  Monday\, January 14.\n
CATEGORIES:Celebration
LOCATION:The Jewish Federation’s Bronfman Family JCC.\, 524 Chapala St\, 
 Santa Barbara\, CA\, 93101\, United States
GEO:34.416685;-119.697105
X-APPLE-STRUCTURED-LOCATION;VALUE=URI;X-ADDRESS=524 Chapala St\, Santa Barb
 ara\, CA\, 93101\, United States;X-APPLE-RADIUS=100;X-TITLE=The Jewish Fed
 eration’s Bronfman Family JCC.:geo:34.416685,-119.697105
END:VEVENT
END:VCALENDAR