BEGIN:VCALENDAR
VERSION:2.0
PRODID:-//wp-events-plugin.com//7.0.4//EN
TZID:America/Los_Angeles
X-WR-TIMEZONE:America/Los_Angeles
BEGIN:VEVENT
UID:520@communityshul.com
DTSTART;TZID=America/Los_Angeles:20220116T173000
DTEND;TZID=America/Los_Angeles:20220116T193000
DTSTAMP:20211230T042035Z
URL:https://communityshul.com/events/tu-bshvat-seder/
SUMMARY:Community Shul Tu B’Shvat Seder
DESCRIPTION:\n\nDue to the threat of the Omicron virus the Tu B’Shvat Sed
 er will take place on ZOOM.\n\nTo join Rabbi Arthur for a Tu B’Shvat Sed
 er online Sunday\, January 16 5:30 P.M. It will be a wonderful spiritual K
 abbalistic journey involving music\, fruits\, nuts\, stories\, sharing and
  teachings.\n\nBut Wait\, That's Not All!  A great dinner prepared by Che
 f Shoham Yaniv from “Sababa catering” On the menu: Salmon\, quiche\, g
 reen salad and a special Tu B’Shvat Seder box with a variety of deliciou
 s fruits like\, dates\, figs\, nuts\, berries and Tu B’Shvat Haggadah wi
 ll be waiting for you to pick up on Sunday\, January 16\, between 4:00- 5:
 00 P.M. at the Federation\n\nWhat will you need for this Tu B’Shvat Sede
 r that is NOT provided? White wine or white grape juice and red wine or re
 d grape juice.\n\nTo RSVP and pay for the event:\n\n1 Adult $18 [wpecpp na
 me="1 Adult" price="18"]\n\n2 Adults $36 [wpecpp name="2 Adults" price="36
 "]\n\n3 Adults $54 [wpecpp name="3 Adults" price="54"]\n\n4 Adults $72 [wp
 ecpp name="4 Adults" price="72"]
CATEGORIES:Celebration
END:VEVENT
BEGIN:VTIMEZONE
TZID:America/Los_Angeles
X-LIC-LOCATION:America/Los_Angeles
BEGIN:STANDARD
DTSTART:20211107T010000
TZOFFSETFROM:-0700
TZOFFSETTO:-0800
TZNAME:PST
END:STANDARD
END:VTIMEZONE
END:VCALENDAR