BEGIN:VCALENDAR
VERSION:2.0
PRODID:-//wp-events-plugin.com//7.0.4//EN
TZID:America/Los_Angeles
X-WR-TIMEZONE:America/Los_Angeles
BEGIN:VEVENT
UID:370@communityshul.com
DTSTART:20191230T070000Z
DTEND:20191230T070000Z
DTSTAMP:20190520T194114Z
URL:https://communityshul.com/events/winter-vacation-no-religious-school-5
 /
SUMMARY:Winter vacation - No religious school
DESCRIPTION:
END:VEVENT
END:VCALENDAR