BEGIN:VCALENDAR
VERSION:2.0
PRODID:-//wp-events-plugin.com//7.0.4//EN
TZID:America/Los_Angeles
X-WR-TIMEZONE:America/Los_Angeles
BEGIN:VEVENT
UID:206@communityshul.com
DTSTART:20180919T170000Z
DTEND:20180919T193000Z
DTSTAMP:20180806T035429Z
URL:https://communityshul.com/events/yom-kipper-morning/
SUMMARY:Yom Kipper Morning
DESCRIPTION:\n\nWe are excited to invite you to join our 5779 (2018) High H
 oliday services. Each year we offer uniquely warm and participatory servic
 es.  Everyone is encouraged to participate in a variety of ways.  It is 
 that personal involvement and connection that makes our community and our 
 services so vibrant and meaningful.\n\nTo make a donation please click her
 e  \n\n 	Yom Kipper Afternoon Study Sessions 2:00 - 3:30 p.m.\n 	Yom Kip
 per Afternoon services and Yizkor 4\;00 - 5:30 p.m.\n 	Concluding Services
    5:30 - 6:30 p.m.\n 	Community Break the Fast after services 6:45 p.m.
 \n
CATEGORIES:High Holidays
LOCATION:Pacifica Graduate Institute\, 801 Ladera Lane\,\, Santa Barbara\, 
 CA\, 93108\, United States
GEO:34.4419729;-119.58111229999997
X-APPLE-STRUCTURED-LOCATION;VALUE=URI;X-ADDRESS=801 Ladera Lane\,\, Santa B
 arbara\, CA\, 93108\, United States;X-APPLE-RADIUS=100;X-TITLE=Pacifica Gr
 aduate Institute:geo:34.4419729,-119.58111229999997
END:VEVENT
END:VCALENDAR