BEGIN:VCALENDAR
VERSION:2.0
PRODID:-//wp-events-plugin.com//7.0.4//EN
TZID:America/Los_Angeles
X-WR-TIMEZONE:America/Los_Angeles
BEGIN:VEVENT
UID:338@communityshul.com
DTSTART:20191009T020000Z
DTEND:20191009T043000Z
DTSTAMP:20190517T123224Z
URL:https://communityshul.com/events/yom-kippur-begins-kol-nidre/
SUMMARY:Yom Kippur Begins - Kol Nidre
DESCRIPTION:Please join on us for  Yom Kippur services led by Rabbi Arthu
 r for our welcoming and intimate celebration of the Jewish New Year at the
  Pacifica Graduate Institute. Free Admission – Everyone is welcome! \n\
 n
CATEGORIES:High Holidays
LOCATION:Pacifica Graduate Institute\, 801 Ladera Lane\,\, Santa Barbara\, 
 CA\, 93108\, United States
GEO:34.4419729;-119.58111229999997
X-APPLE-STRUCTURED-LOCATION;VALUE=URI;X-ADDRESS=801 Ladera Lane\,\, Santa B
 arbara\, CA\, 93108\, United States;X-APPLE-RADIUS=100;X-TITLE=Pacifica Gr
 aduate Institute:geo:34.4419729,-119.58111229999997
END:VEVENT
END:VCALENDAR