BEGIN:VCALENDAR
VERSION:2.0
PRODID:-//wp-events-plugin.com//7.0.4//EN
TZID:America/Los_Angeles
X-WR-TIMEZONE:America/Los_Angeles
BEGIN:VEVENT
UID:427@communityshul.com
DTSTART;TZID=America/Los_Angeles:20200927T190000
DTEND;TZID=America/Los_Angeles:20200927T203000
DTSTAMP:20200923T134739Z
URL:https://communityshul.com/events/yom-kippur-eve-kol-nidre/
SUMMARY:Yom Kippur Eve– Kol Nidre
DESCRIPTION:Please join us for Yom Kippur services led by Rabbi Arthur Gros
 s-Schaefer\, Cantorial Soloist Elisha Schaefer and composer Peter Melnick 
 for our welcoming and intimate celebration of the Jewish New Year at the P
 acifica Graduate Institute.\nTo Join the service on zoom please click here
  \nMeeting ID: 209 125 5586\n\n\nEveryone is welcome!            
            To make a donation please click here
CATEGORIES:High Holidays
END:VEVENT
BEGIN:VTIMEZONE
TZID:America/Los_Angeles
X-LIC-LOCATION:America/Los_Angeles
BEGIN:DAYLIGHT
DTSTART:20200308T030000
TZOFFSETFROM:-0800
TZOFFSETTO:-0700
TZNAME:PDT
END:DAYLIGHT
END:VTIMEZONE
END:VCALENDAR