BEGIN:VCALENDAR
VERSION:2.0
PRODID:-//wp-events-plugin.com//7.0.4//EN
TZID:America/Los_Angeles
X-WR-TIMEZONE:America/Los_Angeles
BEGIN:VEVENT
UID:82@communityshul.com
DTSTART:20170930T020000Z
DTEND:20170930T043000Z
DTSTAMP:20170920T160044Z
URL:https://communityshul.com/events/yom-kippur-kol-nidre-service/
SUMMARY:Yom Kippur Kol Nidre Service.
DESCRIPTION:Please join on us for our welcoming and intimate Yom Kippur Kol
  Nidre Service. 
CATEGORIES:Service
LOCATION:Pacifica Graduate Institute\, 801 Ladera Lane\,\, Santa Barbara\, 
 CA\, 93108\, United States
GEO:34.4419729;-119.58111229999997
X-APPLE-STRUCTURED-LOCATION;VALUE=URI;X-ADDRESS=801 Ladera Lane\,\, Santa B
 arbara\, CA\, 93108\, United States;X-APPLE-RADIUS=100;X-TITLE=Pacifica Gr
 aduate Institute:geo:34.4419729,-119.58111229999997
END:VEVENT
END:VCALENDAR