BEGIN:VCALENDAR
VERSION:2.0
PRODID:-//wp-events-plugin.com//7.0.4//EN
TZID:America/Los_Angeles
X-WR-TIMEZONE:America/Los_Angeles
BEGIN:VEVENT
UID:460@communityshul.com
DTSTART;TZID=America/Los_Angeles:20210915T190000
DTEND;TZID=America/Los_Angeles:20210915T213000
DTSTAMP:20210915T204241Z
URL:https://communityshul.com/events/yom-kippur-kol-nidre/
SUMMARY:Yom Kippur - Kol Nidre
DESCRIPTION:Please join on us for our welcoming and intimate Yom Kippur / 
 Kol Nidre service on Wednesday\, September 15\, 7:00 pm  \n\nYom Kippur 
 / Kol Nidre service -\n\nThe zoom Meeting ID: 861 1084 5429\n\nPasscode: 
 664920\n\n&nbsp\;\n\nThis High Holidays\, services will be available to al
 l members and friends of the Community Shul via Zoom and limited outdoor s
 eating.\n\nWe will also be offering limited outdoor seating on the patio o
 f Rabbi Arthur’s home\, for those who would like to attend services in p
 erson. Canopies will provide shade. But the Seating will be limited due to
  social distancing considerations. For anyone interested in attending serv
 ices in person:\n\n1) Please email Itzik at communityshul@gmail.com with a
  list of the specific services you would like to attend\, in order of pref
 erence.\n\n2)You must have completed your vaccinations at least two weeks 
 prior to services in order to attend in person. Proof of vaccination must 
 be provided when registering. To be safe in case of any mix up\, please br
 ing a paper copy as a backup.\n\nUnfortunately\, children under the age of
  twelve will be unable to attend services in person this year.\n\n3) Masks
  will be required for all attendees.\n\nThank you in advance for your unde
 rstanding\, and your cooperation.\n\nTo Donate please click here
CATEGORIES:High Holidays
LOCATION:Rabbi Arthur's home\, 4598 Camino Molinero\, Santa Barbara\, CA\, 
 93110\, United States
GEO:34.454977;-119.780821
X-APPLE-STRUCTURED-LOCATION;VALUE=URI;X-ADDRESS=4598 Camino Molinero\, Sant
 a Barbara\, CA\, 93110\, United States;X-APPLE-RADIUS=100;X-TITLE=Rabbi Ar
 thur's home:geo:34.454977,-119.780821
END:VEVENT
BEGIN:VTIMEZONE
TZID:America/Los_Angeles
X-LIC-LOCATION:America/Los_Angeles
BEGIN:DAYLIGHT
DTSTART:20210314T030000
TZOFFSETFROM:-0800
TZOFFSETTO:-0700
TZNAME:PDT
END:DAYLIGHT
END:VTIMEZONE
END:VCALENDAR