BEGIN:VCALENDAR
VERSION:2.0
PRODID:-//wp-events-plugin.com//7.0.4//EN
TZID:America/Los_Angeles
X-WR-TIMEZONE:America/Los_Angeles
BEGIN:VEVENT
UID:492@communityshul.com
DTSTART;TZID=America/Los_Angeles:20210916T100000
DTEND;TZID=America/Los_Angeles:20210916T123000
DTSTAMP:20210915T204743Z
URL:https://communityshul.com/events/yom-kippur-service/
SUMMARY:Yom Kippur Service
DESCRIPTION:Please join on us for our welcoming and intimate Yom Kippur on
  Thursday\, September 16 \, 10:00 am  \n\nThis High Holidays\, services 
 will be available to all members and friends of the Community Shul via Zoo
 m and limited outdoor seating.\n\n\n\n\n\n\n\n\n\n\n\n\n\n\n\n\n\n\n\n\n\n
 \n\n\n\n\n\n\n\n\n\n\n\n\n\n\n\n\n\n\n\n\n\n\n\n\n\n\n\n\nMeeting ID: 898 
 8910 5380\nPasscode: 834473\n\n\n\n\n\n\n\n\n\n\n\n\n\n\n\n\n\n\n\n\n\n\n\
 n\nYom Kippur Yizkor service 4:00 – 5:30 pm\nYom Kippur Afternoon Stud
 y Session 3:00 – 4:00 pm\nClosing service 5:30 – 6:30 pm\n\nWe will a
 lso be offering limited outdoor seating on the patio of Rabbi Arthur’s h
 ome\, for those who would like to attend services in person. Canopies will
  provide shade. But the Seating will be limited due to social distancing c
 onsiderations. For anyone interested in attending services in person:\n\n1
 ) Please email Itzik at communityshul@gmail.com with a list of the specifi
 c services you would like to attend\, in order of preference.\n\n2)You mus
 t have completed your vaccinations at least two weeks prior to services in
  order to attend in person. Proof of vaccination must be provided when reg
 istering. To be safe in case of any mix up\, please bring a paper copy as 
 a backup.\n\nUnfortunately\, children under the age of twelve will be unab
 le to attend services in person this year.\n\n3) Masks will be required fo
 r all attendees.\n\nThank you in advance for your understanding\, and your
  cooperation.\n\nTo Donate please click here
CATEGORIES:High Holidays
LOCATION:Rabbi Arthur's home\, 4598 Camino Molinero\, Santa Barbara\, CA\, 
 93110\, United States
GEO:34.454977;-119.780821
X-APPLE-STRUCTURED-LOCATION;VALUE=URI;X-ADDRESS=4598 Camino Molinero\, Sant
 a Barbara\, CA\, 93110\, United States;X-APPLE-RADIUS=100;X-TITLE=Rabbi Ar
 thur's home:geo:34.454977,-119.780821
END:VEVENT
BEGIN:VTIMEZONE
TZID:America/Los_Angeles
X-LIC-LOCATION:America/Los_Angeles
BEGIN:DAYLIGHT
DTSTART:20210314T030000
TZOFFSETFROM:-0800
TZOFFSETTO:-0700
TZNAME:PDT
END:DAYLIGHT
END:VTIMEZONE
END:VCALENDAR