BEGIN:VCALENDAR
VERSION:2.0
PRODID:-//wp-events-plugin.com//7.0.4//EN
TZID:America/Los_Angeles
X-WR-TIMEZONE:America/Los_Angeles
BEGIN:VEVENT
UID:428@communityshul.com
DTSTART;TZID=America/Los_Angeles:20200928T100000
DTEND;TZID=America/Los_Angeles:20200928T183000
DTSTAMP:20200923T135142Z
URL:https://communityshul.com/events/yom-kippur-services/
SUMMARY:Yom Kippur Services
DESCRIPTION:Please join us for Yom Kippur services led by Rabbi Arthur Gros
 s-Schaefer\, Cantorial Soloist Elisha Schaefer and composer Peter Melnick 
 for our welcoming and intimate celebration of the Yom Kippur.\nTo join Yom
  Kippur services please click here \n\nMeeting ID: 209 125 5586\n\n 	Yom 
 Kippur morning service 10:00 a.m.- 12:00 p.m.\n 	Yom Kippur Afternoon Stud
 y Sessions 2:00- 3:00 p.m.\n 	Yom Kippur Afternoon services and Yiskor 4:0
 0- 5:30 p.m.\n 	Concluding Service 5:30 - 6:30 p.m.\n\n\nFree Admission 
 – Everyone is welcome!  To make a donation please click here
CATEGORIES:High Holidays
END:VEVENT
BEGIN:VTIMEZONE
TZID:America/Los_Angeles
X-LIC-LOCATION:America/Los_Angeles
BEGIN:DAYLIGHT
DTSTART:20200308T030000
TZOFFSETFROM:-0800
TZOFFSETTO:-0700
TZNAME:PDT
END:DAYLIGHT
END:VTIMEZONE
END:VCALENDAR