BEGIN:VCALENDAR
VERSION:2.0
PRODID:-//wp-events-plugin.com//7.0.4//EN
TZID:America/Los_Angeles
X-WR-TIMEZONE:America/Los_Angeles
BEGIN:VEVENT
UID:83@communityshul.com
DTSTART:20170930T173000Z
DTEND:20170930T193000Z
DTSTAMP:20170808T213441Z
URL:https://communityshul.com/events/yom-kippur/
SUMMARY:Yom Kippur services.
DESCRIPTION:Please join on us for our welcoming and intimate Yom Kippur ser
 vices.\n\n                           \n\nYom Kippur Morning 
                                                  
                                   10am – 12:30 pm    
                                                  
               \n\nYom Kippur Afternoon Study Sessions       
                                      
       1pm – 3pm\n\nYom Kippur Afternoon services and Yiskor    
                                      4
 pm – 5:30p\n\nConcluding Services                          
                                                  
              5:30 – 6:30pm\n\nCommunity Break the Fast after serv
 ices                                               
 6:45pm
CATEGORIES:Service
LOCATION:Pacifica Graduate Institute\, 801 Ladera Lane\,\, Santa Barbara\, 
 CA\, 93108\, United States
GEO:34.4419729;-119.58111229999997
X-APPLE-STRUCTURED-LOCATION;VALUE=URI;X-ADDRESS=801 Ladera Lane\,\, Santa B
 arbara\, CA\, 93108\, United States;X-APPLE-RADIUS=100;X-TITLE=Pacifica Gr
 aduate Institute:geo:34.4419729,-119.58111229999997
END:VEVENT
END:VCALENDAR